BEGIN:VCALENDAR
VERSION:2.0
PRODID:-//108.179.243.201//NONSGML kigkonsult.se iCalcreator 2.20//
CALSCALE:GREGORIAN
METHOD:PUBLISH
X-FROM-URL:http://www.wdbc.org.au
X-WR-TIMEZONE:Australia/Sydney
BEGIN:VTIMEZONE
TZID:Australia/Sydney
X-LIC-LOCATION:Australia/Sydney
BEGIN:STANDARD
DTSTART:20200405T030000
TZOFFSETFROM:+1100
TZOFFSETTO:+1000
TZNAME:AEST
END:STANDARD
BEGIN:DAYLIGHT
DTSTART:20191006T020000
TZOFFSETFROM:+1000
TZOFFSETTO:+1100
TZNAME:AEDT
END:DAYLIGHT
END:VTIMEZONE
BEGIN:VEVENT
UID:ai1ec-1278716@www.wdbc.org.au/www
DTSTAMP:20200301T163426Z
CATEGORIES;LANGUAGE=en-AU:Featured
CONTACT:http://revive.org.au/
DESCRIPTION:Revive is for EVERYONE. We hope Revive will benefit and bless t
 hose who are very new to following Jesus\, as well as those who have faith
 fully served for many years. We pray Revive will be valuable for children 
 and young people\, right through to those more senior.\nFor more details o
 n Revive Conference for 2017 see the website here: http://revive.org.au/\n
 Tickets: http://revive.org.au/register-2017/.
DTSTART;VALUE=DATE:20170519
DTEND;VALUE=DATE:20170521
GEO:-33.688953;+151.016231
LOCATION:The Centre @ 1 Pellitt Ln\, Dural NSW 2158\, Australia
SEQUENCE:0
SUMMARY:Revive Conference
URL:http://www.wdbc.org.au/event/revive-conference/
X-COST-TYPE:external
X-ALT-DESC;FMTTYPE=text/html:<!DOCTYPE HTML PUBLIC '-//W3C//DTD HTML 3.2//E
 N'>\\n<HTML>\\n<HEAD>\\n<TITLE></TITLE>\\n</HEAD>\\n<BODY><p>Revive is for
  EVERYONE. We hope Revive will benefit and bless those who are very new to
  following Jesus\, as well as those who have faithfully served for many ye
 ars. We pray Revive will be valuable for children and young people\, right
  through to those more senior.</p>\n<p>For more details on Revive Conferen
 ce for 2017 see the website here: <a href='http://revive.org.au/' target='
 _blank'>http://revive.org.au/</a></p>\n<p>Tickets: <a class='ai1ec-ticket-
 url-exported' href='http://revive.org.au/register-2017/'>http://revive.org
 .au/register-2017/</a>.</p></BODY></HTML>
X-TAGS;LANGUAGE=en-AU:Revive
X-COST:From $65
X-TICKETS-URL:http://revive.org.au/register-2017/
END:VEVENT
BEGIN:VEVENT
UID:ai1ec-1278828@www.wdbc.org.au/www
DTSTAMP:20200301T163426Z
CATEGORIES:
CONTACT:
DESCRIPTION:Topic: “Christian Leadership”. 11:00am-12:00pm and 4:30-5:30pm 
 in the Corinthian room.
DTSTART;VALUE=DATE:20170723
DTEND;VALUE=DATE:20170724
GEO:-33.636847;+150.783014
LOCATION:Windsor District Baptist Church @ 739 George St\, South Windsor NS
 W 2756\, Australia
SEQUENCE:0
SUMMARY:Corinthian Conversation
URL:http://www.wdbc.org.au/event/corinthian-conversation-3/
X-COST-TYPE:free
X-ALT-DESC;FMTTYPE=text/html:<!DOCTYPE HTML PUBLIC '-//W3C//DTD HTML 3.2//E
 N'>\\n<HTML>\\n<HEAD>\\n<TITLE></TITLE>\\n</HEAD>\\n<BODY><p>Topic: “Chris
 tian Leadership”. 11:00am-12:00pm and 4:30-5:30pm in the Corinthian room.<
 /p>\n</BODY></HTML>
END:VEVENT
BEGIN:VEVENT
UID:ai1ec-1278858@www.wdbc.org.au/www
DTSTAMP:20200301T163426Z
CATEGORIES;LANGUAGE=en-AU:Featured
CONTACT:
DESCRIPTION:Outing followed by BBQ and bonfire. This is an event for men of
  all ages and their children. Feel free to come to both or either of these
  activities. Contact the church office for further information.
DTSTART;VALUE=DATE:20170812
DTEND;VALUE=DATE:20170813
SEQUENCE:0
SUMMARY:Dads and Kids Outing
URL:http://www.wdbc.org.au/event/dads-and-dudes-campout/
X-COST-TYPE:free
X-ALT-DESC;FMTTYPE=text/html:<!DOCTYPE HTML PUBLIC '-//W3C//DTD HTML 3.2//E
 N'>\\n<HTML>\\n<HEAD>\\n<TITLE></TITLE>\\n</HEAD>\\n<BODY><p>Outing follow
 ed by BBQ and bonfire. This is an event for men of all ages and their chil
 dren. Feel free to come to both or either of these activities. Contact the
  church office for further information.</p>\n</BODY></HTML>
END:VEVENT
BEGIN:VEVENT
UID:ai1ec-1278883@www.wdbc.org.au/www
DTSTAMP:20200301T163426Z
CATEGORIES:
CONTACT:
DESCRIPTION:Contact the church office for details.
DTSTART;VALUE=DATE:20170819
DTEND;VALUE=DATE:20170820
SEQUENCE:0
SUMMARY:Car Park Working Bee
URL:http://www.wdbc.org.au/event/1278883/
X-COST-TYPE:free
X-ALT-DESC;FMTTYPE=text/html:<!DOCTYPE HTML PUBLIC '-//W3C//DTD HTML 3.2//E
 N'>\\n<HTML>\\n<HEAD>\\n<TITLE></TITLE>\\n</HEAD>\\n<BODY><p>Contact the c
 hurch office for details.</p>\n</BODY></HTML>
END:VEVENT
BEGIN:VEVENT
UID:ai1ec-1278803@www.wdbc.org.au/www
DTSTAMP:20200301T163426Z
CATEGORIES;LANGUAGE=en-AU:Featured
CONTACT:
DESCRIPTION:One Love 2017 – a one day women’s conference in Sydney on 9 Sep
 tember 2017. Speakers Nancy Guthrie & Mike Raiter.\nRegister with the WDBC
  group by contacting Joanna Hoffman or contact the church office for more 
 information.
DTSTART;VALUE=DATE:20170909
DTEND;VALUE=DATE:20170910
GEO:-33.84801;+151.06488
LOCATION:Sydney Olympic Park @ Sydney Olympic Park NSW 2127\, Australia
SEQUENCE:0
SUMMARY:One Love Women’s Conference
URL:http://www.wdbc.org.au/event/one-love-womens-conference/
X-COST-TYPE:free
X-ALT-DESC;FMTTYPE=text/html:<!DOCTYPE HTML PUBLIC '-//W3C//DTD HTML 3.2//E
 N'>\\n<HTML>\\n<HEAD>\\n<TITLE></TITLE>\\n</HEAD>\\n<BODY><p>One Love 2017
  – a one day women’s conference in Sydney on 9 September 2017. Speakers Na
 ncy Guthrie & Mike Raiter.</p>\n<p>Register with the WDBC group by contact
 ing Joanna Hoffman or contact the church office for more information.</p>
 \n</BODY></HTML>
X-TAGS;LANGUAGE=en-AU:One Love
X-COST:$89 (early bird rate\, lunch not included)
END:VEVENT
BEGIN:VEVENT
UID:ai1ec-1278678@www.wdbc.org.au/www
DTSTAMP:20200301T163426Z
CATEGORIES;LANGUAGE=en-AU:Featured
CONTACT:
DESCRIPTION:MUGS (Men Under God’s Service) – men’s fellowship event. Topic 
 “My dog just died”. Contact the church office for more information.
DTSTART;TZID=Australia/Sydney:20170304T073000
DTEND;TZID=Australia/Sydney:20170304T093000
SEQUENCE:0
SUMMARY:MUGS
URL:http://www.wdbc.org.au/event/mugs-2/
X-COST-TYPE:free
X-ALT-DESC;FMTTYPE=text/html:<!DOCTYPE HTML PUBLIC '-//W3C//DTD HTML 3.2//E
 N'>\\n<HTML>\\n<HEAD>\\n<TITLE></TITLE>\\n</HEAD>\\n<BODY><p>MUGS (Men Und
 er God’s Service) – men’s fellowship event. Topic “My dog just died”. <a h
 ref='http://www.wdbc.org.au/contact/'>Contact the church office </a>for mo
 re information.</p>\n</BODY></HTML>
X-TAGS;LANGUAGE=en-AU:MUGS
END:VEVENT
BEGIN:VEVENT
UID:ai1ec-67@wdbc.org.au/www
DTSTAMP:20200301T163426Z
CATEGORIES;LANGUAGE=en-AU:Church Service
CONTACT:http://wdbc.org.au/www/contact/
DESCRIPTION:Our regular church services run every Sunday and we welcome any
 one to come as you are. Our family morning service is 9:30-10:45am with a 
 parents room\, creche\, kids and youth church available. Our evening servi
 ce is 6:00-7:30pm. In our services we read from the bible\, hear a message
  from the pastor\, worship with contemporary music\, and share in communio
 n once a month.
DTSTART;TZID=Australia/Sydney:20170305T093000
DTEND;TZID=Australia/Sydney:20170305T104500
EXDATE;TZID=Australia/Sydney:20161225T093000
EXDATE;TZID=Australia/Sydney:20170416T093000
GEO:-33.636847;+150.783014
LOCATION:Windsor District Baptist Church @ 739 George St\, South Windsor NS
 W 2756\, Australia
RRULE:FREQ=WEEKLY;UNTIL=20171231T235959Z;BYDAY=SU;WKST=SU
SEQUENCE:0
SUMMARY:Morning Service
URL:http://www.wdbc.org.au/event/morning-service/
X-COST-TYPE:free
X-ALT-DESC;FMTTYPE=text/html:<!DOCTYPE HTML PUBLIC '-//W3C//DTD HTML 3.2//E
 N'>\\n<HTML>\\n<HEAD>\\n<TITLE></TITLE>\\n</HEAD>\\n<BODY><p>Our regular c
 hurch services run every Sunday and we welcome anyone to come as you are. 
 Our family morning service is 9:30-10:45am with a parents room\, creche\, 
 kids and youth church available. Our evening service is 6:00-7:30pm. In ou
 r services we read from the bible\, hear a message from the pastor\, worsh
 ip with contemporary music\, and share in communion once a month.</p>\n</B
 ODY></HTML>
END:VEVENT
BEGIN:VEVENT
UID:ai1ec-68@wdbc.org.au/www
DTSTAMP:20200301T163426Z
CATEGORIES;LANGUAGE=en-AU:Church Service
CONTACT:http://wdbc.org.au/www/contact/
DESCRIPTION:Our regular church services run every Sunday and we welcome any
 one to come as you are. Our family morning service is 9:30-10:45am with a 
 parents room\, creche\, kids and youth church available. Our evening servi
 ce is 6:00-7:30pm. In our services we read from the bible\, hear a message
  from the pastor\, worship with contemporary music\, and share in communio
 n once a month.
DTSTART;TZID=Australia/Sydney:20170305T180000
DTEND;TZID=Australia/Sydney:20170305T193000
EXDATE;TZID=Australia/Sydney:20161211T180000
EXDATE;TZID=Australia/Sydney:20161225T180000
EXDATE;TZID=Australia/Sydney:20170101T180000
EXDATE;TZID=Australia/Sydney:20170108T180000
EXDATE;TZID=Australia/Sydney:20170416T180000
GEO:-33.636847;+150.783014
LOCATION:Windsor District Baptist Church @ 739 George St\, South Windsor NS
 W 2756\, Australia
RRULE:FREQ=WEEKLY;UNTIL=20171231T235959Z;BYDAY=SU;WKST=SU
SEQUENCE:0
SUMMARY:Evening Service
URL:http://www.wdbc.org.au/event/evening-service/
X-COST-TYPE:free
X-ALT-DESC;FMTTYPE=text/html:<!DOCTYPE HTML PUBLIC '-//W3C//DTD HTML 3.2//E
 N'>\\n<HTML>\\n<HEAD>\\n<TITLE></TITLE>\\n</HEAD>\\n<BODY><p>Our regular c
 hurch services run every Sunday and we welcome anyone to come as you are. 
 Our family morning service is 9:30-10:45am with a parents room\, creche\, 
 kids and youth church available. Our evening service is 6:00-7:30pm. In ou
 r services we read from the bible\, hear a message from the pastor\, worsh
 ip with contemporary music\, and share in communion once a month.</p>\n</B
 ODY></HTML>
END:VEVENT
BEGIN:VEVENT
UID:ai1ec-1278677@www.wdbc.org.au/www
DTSTAMP:20200301T163426Z
CATEGORIES;LANGUAGE=en-AU:Featured
CONTACT:
DESCRIPTION:Sunday 12 March\, 12:00pm\nMeet at Richmond Park near the play 
 equipment\, beside the\noval.\nBYO lunch or buy some food at nearby Mc Don
 alds\, KFC\, or Richmond Marketplace.
DTSTART;TZID=Australia/Sydney:20170312T120000
DTEND;TZID=Australia/Sydney:20170312T150000
SEQUENCE:0
SUMMARY:Church Family Picnic
URL:http://www.wdbc.org.au/event/church-family-picnic/
X-COST-TYPE:free
X-ALT-DESC;FMTTYPE=text/html:<!DOCTYPE HTML PUBLIC '-//W3C//DTD HTML 3.2//E
 N'>\\n<HTML>\\n<HEAD>\\n<TITLE></TITLE>\\n</HEAD>\\n<BODY><div class='page
 ' title='Page 1'>\n<div class='section'>\n<div class='layoutArea'>\n<div c
 lass='column'>\n<p>Sunday 12 March\, 12:00pm</p>\n<p>Meet at Richmond Park
  near the play equipment\, beside the<br />\noval.</p>\n<p>BYO lunch or bu
 y some food at nearby Mc Donalds\, KFC\, or Richmond Marketplace.</p>\n</d
 iv>\n</div>\n</div>\n</div>\n</BODY></HTML>
X-TAGS;LANGUAGE=en-AU:picnic
END:VEVENT
BEGIN:VEVENT
UID:ai1ec-1278676@www.wdbc.org.au/www
DTSTAMP:20200301T163426Z
CATEGORIES;LANGUAGE=en-AU:Featured
CONTACT:
DESCRIPTION:Details TBA.
DTSTART;TZID=Australia/Sydney:20170401T190000
DTEND;TZID=Australia/Sydney:20170401T220000
GEO:-33.636847;+150.783014
LOCATION:Windsor District Baptist Church @ 739 George St\, South Windsor NS
 W 2756\, Australia
SEQUENCE:0
SUMMARY:Hymns R Us
URL:http://www.wdbc.org.au/event/hymns-r-us/
X-COST-TYPE:free
X-ALT-DESC;FMTTYPE=text/html:<!DOCTYPE HTML PUBLIC '-//W3C//DTD HTML 3.2//E
 N'>\\n<HTML>\\n<HEAD>\\n<TITLE></TITLE>\\n</HEAD>\\n<BODY><p>Details TBA.<
 /p>\n</BODY></HTML>
X-TAGS;LANGUAGE=en-AU:Hymns R Us
END:VEVENT
BEGIN:VEVENT
UID:ai1ec-1278668@www.wdbc.org.au/www
DTSTAMP:20200301T163426Z
CATEGORIES;LANGUAGE=en-AU:Featured
CONTACT:
DESCRIPTION:9:30 Morning Worship Service\n11:00 Special Morning Tea – Cutti
 ng of the Cake\, 60th Anniversary Presentations\, Reflections from former 
 pastors\, Reflections from members\, Prayers of Dedication & Signs of Reme
 mbrance\n12:00 Catered Lunch (sign-up sheet is on the back table)\nRSVP is
  essential by Sunday 26 March\nCost: Adults & children over 12- $10\, Fami
 ly Rate- $25 payment can be made using evite or to Robyn Douglas
DTSTART;TZID=Australia/Sydney:20170402T093000
DTEND;TZID=Australia/Sydney:20170402T130000
GEO:-33.636847;+150.783014
LOCATION:Windsor District Baptist Church @ 739 George St\, South Windsor NS
 W 2756\, Australia
SEQUENCE:0
SUMMARY:Church 60th Anniversary Celebration and Fellowship Brunch
URL:http://www.wdbc.org.au/event/church-60th-anniversary-celebration-and-fe
 llowship-brunch/
X-COST-TYPE:free
X-ALT-DESC;FMTTYPE=text/html:<!DOCTYPE HTML PUBLIC '-//W3C//DTD HTML 3.2//E
 N'>\\n<HTML>\\n<HEAD>\\n<TITLE></TITLE>\\n</HEAD>\\n<BODY><p>9:30 Morning 
 Worship Service<br />\n11:00 Special Morning Tea – Cutting of the Cake\, 6
 0th Anniversary Presentations\, Reflections from former pastors\, Reflecti
 ons from members\, Prayers of Dedication & Signs of Remembrance<br />\n12:
 00 Catered Lunch (sign-up sheet is on the back table)</p>\n<p>RSVP is esse
 ntial by Sunday 26 March</p>\n<p>Cost: Adults & children over 12- $10\, Fa
 mily Rate- $25 payment can be made using evite or to Robyn Douglas</p>\n</
 BODY></HTML>
END:VEVENT
BEGIN:VEVENT
UID:ai1ec-1278711@www.wdbc.org.au/www
DTSTAMP:20200301T163426Z
CATEGORIES;LANGUAGE=en-AU:Church Service\,Featured
CONTACT:
DESCRIPTION:Good Friday morning service. All welcome.
DTSTART;TZID=Australia/Sydney:20170414T093000
DTEND;TZID=Australia/Sydney:20170414T104500
GEO:-33.636847;+150.783014
LOCATION:Windsor District Baptist Church @ 739 George St\, South Windsor NS
 W 2756\, Australia
SEQUENCE:0
SUMMARY:Good Friday Morning Service
URL:http://www.wdbc.org.au/event/good-friday-morning-service/
X-COST-TYPE:free
X-ALT-DESC;FMTTYPE=text/html:<!DOCTYPE HTML PUBLIC '-//W3C//DTD HTML 3.2//E
 N'>\\n<HTML>\\n<HEAD>\\n<TITLE></TITLE>\\n</HEAD>\\n<BODY><p>Good Friday m
 orning service. All welcome.</p>\n</BODY></HTML>
X-TAGS;LANGUAGE=en-AU:Easter
END:VEVENT
BEGIN:VEVENT
UID:ai1ec-1278712@www.wdbc.org.au/www
DTSTAMP:20200301T163426Z
CATEGORIES;LANGUAGE=en-AU:Church Service\,Featured
CONTACT:
DESCRIPTION:Good Friday evening service. All welcome.
DTSTART;TZID=Australia/Sydney:20170414T180000
DTEND;TZID=Australia/Sydney:20170414T193000
GEO:-33.636847;+150.783014
LOCATION:Windsor District Baptist Church @ 739 George St\, South Windsor NS
 W 2756\, Australia
SEQUENCE:0
SUMMARY:Good Friday Evening Service
URL:http://www.wdbc.org.au/event/good-friday-evening-service/
X-COST-TYPE:free
X-ALT-DESC;FMTTYPE=text/html:<!DOCTYPE HTML PUBLIC '-//W3C//DTD HTML 3.2//E
 N'>\\n<HTML>\\n<HEAD>\\n<TITLE></TITLE>\\n</HEAD>\\n<BODY><p>Good Friday e
 vening service. All welcome.</p>\n</BODY></HTML>
X-TAGS;LANGUAGE=en-AU:Easter
END:VEVENT
BEGIN:VEVENT
UID:ai1ec-1278713@www.wdbc.org.au/www
DTSTAMP:20200301T163426Z
CATEGORIES;LANGUAGE=en-AU:Church Service\,Featured
CONTACT:
DESCRIPTION:Easter Sunday morning service. All welcome.
DTSTART;TZID=Australia/Sydney:20170416T093000
DTEND;TZID=Australia/Sydney:20170416T101500
GEO:-33.636847;+150.783014
LOCATION:Windsor District Baptist Church @ 739 George St\, South Windsor NS
 W 2756\, Australia
SEQUENCE:0
SUMMARY:Easter Sunday Service
URL:http://www.wdbc.org.au/event/easter-sunday-service/
X-COST-TYPE:free
X-ALT-DESC;FMTTYPE=text/html:<!DOCTYPE HTML PUBLIC '-//W3C//DTD HTML 3.2//E
 N'>\\n<HTML>\\n<HEAD>\\n<TITLE></TITLE>\\n</HEAD>\\n<BODY><p>Easter Sunday
  morning service. All welcome.</p>\n</BODY></HTML>
X-TAGS;LANGUAGE=en-AU:Easter
END:VEVENT
BEGIN:VEVENT
UID:ai1ec-1278714@www.wdbc.org.au/www
DTSTAMP:20200301T163426Z
CATEGORIES:
CONTACT:
DESCRIPTION:Come along and share your ideas about the church.
DTSTART;TZID=Australia/Sydney:20170430T110000
DTEND;TZID=Australia/Sydney:20170430T120000
GEO:-33.636847;+150.783014
LOCATION:Windsor District Baptist Church @ 739 George St\, South Windsor NS
 W 2756\, Australia
SEQUENCE:0
SUMMARY:Corinthian Conversation
URL:http://www.wdbc.org.au/event/corinthian-conversation/
X-COST-TYPE:free
X-ALT-DESC;FMTTYPE=text/html:<!DOCTYPE HTML PUBLIC '-//W3C//DTD HTML 3.2//E
 N'>\\n<HTML>\\n<HEAD>\\n<TITLE></TITLE>\\n</HEAD>\\n<BODY><p>Come along an
 d share your ideas about the church.</p>\n</BODY></HTML>
END:VEVENT
BEGIN:VEVENT
UID:ai1ec-1278715@www.wdbc.org.au/www
DTSTAMP:20200301T163426Z
CATEGORIES:
CONTACT:
DESCRIPTION:Come along and share your ideas about the church.
DTSTART;TZID=Australia/Sydney:20170430T164500
DTEND;TZID=Australia/Sydney:20170430T174500
GEO:-33.636847;+150.783014
LOCATION:Windsor District Baptist Church @ 739 George St\, South Windsor NS
 W 2756\, Australia
SEQUENCE:0
SUMMARY:Corinthian Conversation
URL:http://www.wdbc.org.au/event/corinthian-conversation-2/
X-COST-TYPE:free
X-ALT-DESC;FMTTYPE=text/html:<!DOCTYPE HTML PUBLIC '-//W3C//DTD HTML 3.2//E
 N'>\\n<HTML>\\n<HEAD>\\n<TITLE></TITLE>\\n</HEAD>\\n<BODY><p>Come along an
 d share your ideas about the church.</p>\n</BODY></HTML>
END:VEVENT
BEGIN:VEVENT
UID:ai1ec-1278750@www.wdbc.org.au/www
DTSTAMP:20200301T163426Z
CATEGORIES;LANGUAGE=en-AU:Featured
CONTACT:
DESCRIPTION:This is a wonderful opportunity to meet with other churches in 
 our area to pray for the Hawkesbury.
DTSTART;TZID=Australia/Sydney:20170504T193000
DTEND;TZID=Australia/Sydney:20170504T203000
GEO:-33.55492;+150.844152
LOCATION:St John's Anglican Church @ 43 Macquarie Rd\, Wilberforce NSW 2756
 \, Australia
SEQUENCE:0
SUMMARY:Hawkesbury Combined Prayer Gathering
URL:http://www.wdbc.org.au/event/hawkesbury-combined-prayer-gathering/
X-COST-TYPE:free
X-ALT-DESC;FMTTYPE=text/html:<!DOCTYPE HTML PUBLIC '-//W3C//DTD HTML 3.2//E
 N'>\\n<HTML>\\n<HEAD>\\n<TITLE></TITLE>\\n</HEAD>\\n<BODY><p>This is a won
 derful opportunity to meet with other churches in our area to pray for the
  Hawkesbury.</p>\n</BODY></HTML>
END:VEVENT
BEGIN:VEVENT
UID:ai1ec-1278751@www.wdbc.org.au/www
DTSTAMP:20200301T163426Z
CATEGORIES;LANGUAGE=en-AU:Featured
CONTACT:
DESCRIPTION:MUGS (Men Under God’s Service) – men’s fellowship event. Topic 
 “The Straight Jacket of Cool”. Contact the church office for more informat
 ion.
DTSTART;TZID=Australia/Sydney:20170506T073000
DTEND;TZID=Australia/Sydney:20170506T093000
SEQUENCE:0
SUMMARY:MUGS
URL:http://www.wdbc.org.au/event/1278751/
X-COST-TYPE:free
X-ALT-DESC;FMTTYPE=text/html:<!DOCTYPE HTML PUBLIC '-//W3C//DTD HTML 3.2//E
 N'>\\n<HTML>\\n<HEAD>\\n<TITLE></TITLE>\\n</HEAD>\\n<BODY><p>MUGS (Men Und
 er God’s Service) – men’s fellowship event. Topic “The Straight Jacket of 
 Cool”. Contact the church office for more information.</p>\n</BODY></HTML>
END:VEVENT
BEGIN:VEVENT
UID:ai1ec-1278762@www.wdbc.org.au/www
DTSTAMP:20200301T163426Z
CATEGORIES;LANGUAGE=en-AU:Featured
CONTACT:
DESCRIPTION:This is a special event for the Seniors in our church to share 
 a light lunch with our pastors. Signup sheet is on the back table RSVP Wed
 nesday 17 May
DTSTART;TZID=Australia/Sydney:20170521T113000
DTEND;TZID=Australia/Sydney:20170521T133000
GEO:-33.636847;+150.783014
LOCATION:Windsor District Baptist Church @ 739 George St\, South Windsor NS
 W 2756\, Australia
SEQUENCE:0
SUMMARY:Seniors’ Sunday Luncheon
URL:http://www.wdbc.org.au/event/seniors-sunday-luncheon/
X-COST-TYPE:free
X-ALT-DESC;FMTTYPE=text/html:<!DOCTYPE HTML PUBLIC '-//W3C//DTD HTML 3.2//E
 N'>\\n<HTML>\\n<HEAD>\\n<TITLE></TITLE>\\n</HEAD>\\n<BODY><p>This is a spe
 cial event for the Seniors in our church to share a light lunch with our p
 astors. Signup sheet is on the back table RSVP Wednesday 17 May</p>\n</BOD
 Y></HTML>
END:VEVENT
BEGIN:VEVENT
UID:ai1ec-1278763@www.wdbc.org.au/www
DTSTAMP:20200301T163426Z
CATEGORIES:
CONTACT:
DESCRIPTION:The church quarterly business meeting will be held after the mo
 rning service. All church members and regular attendees are encouraged to 
 attend.
DTSTART;TZID=Australia/Sydney:20170528T110000
DTEND;TZID=Australia/Sydney:20170528T120000
GEO:-33.636847;+150.783014
LOCATION:Windsor District Baptist Church @ 739 George St\, South Windsor NS
 W 2756\, Australia
SEQUENCE:0
SUMMARY:Church Quarterly Meeting
URL:http://www.wdbc.org.au/event/church-quarterly-meeting-2/
X-COST-TYPE:free
X-ALT-DESC;FMTTYPE=text/html:<!DOCTYPE HTML PUBLIC '-//W3C//DTD HTML 3.2//E
 N'>\\n<HTML>\\n<HEAD>\\n<TITLE></TITLE>\\n</HEAD>\\n<BODY><p>The church qu
 arterly business meeting will be held after the morning service. All churc
 h members and regular attendees are encouraged to attend.</p>\n</BODY></HT
 ML>
END:VEVENT
BEGIN:VEVENT
UID:ai1ec-1278802@www.wdbc.org.au/www
DTSTAMP:20200301T163426Z
CATEGORIES;LANGUAGE=en-AU:Featured
CONTACT:
DESCRIPTION:MUGS (Men Under God’s Service) – men’s fellowship event. Topic:
  “The Straight Jacket of Cool”
DTSTART;TZID=Australia/Sydney:20170603T073000
DTEND;TZID=Australia/Sydney:20170603T093000
SEQUENCE:0
SUMMARY:MUGS
URL:http://www.wdbc.org.au/event/mugs-3/
X-COST-TYPE:free
X-ALT-DESC;FMTTYPE=text/html:<!DOCTYPE HTML PUBLIC '-//W3C//DTD HTML 3.2//E
 N'>\\n<HTML>\\n<HEAD>\\n<TITLE></TITLE>\\n</HEAD>\\n<BODY><p>MUGS (Men Und
 er God’s Service) – men’s fellowship event. Topic: “The Straight Jacket of
  Cool”</p>\n</BODY></HTML>
X-TAGS;LANGUAGE=en-AU:MUGS
END:VEVENT
BEGIN:VEVENT
UID:ai1ec-1278811@www.wdbc.org.au/www
DTSTAMP:20200301T163426Z
CATEGORIES;LANGUAGE=en-AU:Featured
CONTACT:
DESCRIPTION:The Design Team\, along with the Focus Group\, will be sharing 
 their vision and ideas for the auditorium.
DTSTART;TZID=Australia/Sydney:20170611T110000
DTEND;TZID=Australia/Sydney:20170611T120000
GEO:-33.636847;+150.783014
LOCATION:Windsor District Baptist Church @ 739 George St\, South Windsor NS
 W 2756\, Australia
SEQUENCE:0
SUMMARY:Corinthian Conversations
URL:http://www.wdbc.org.au/event/corinthian-conversations/
X-COST-TYPE:free
X-ALT-DESC;FMTTYPE=text/html:<!DOCTYPE HTML PUBLIC '-//W3C//DTD HTML 3.2//E
 N'>\\n<HTML>\\n<HEAD>\\n<TITLE></TITLE>\\n</HEAD>\\n<BODY><p>The Design Te
 am\, along with the Focus Group\, will be sharing their vision and ideas f
 or the auditorium.</p>\n</BODY></HTML>
END:VEVENT
BEGIN:VEVENT
UID:ai1ec-1278812@www.wdbc.org.au/www
DTSTAMP:20200301T163426Z
CATEGORIES;LANGUAGE=en-AU:Featured
CONTACT:
DESCRIPTION:The church quarterly business meeting will be held after the mo
 rning service. All church members and regular attendees are encouraged to 
 attend.
DTSTART;TZID=Australia/Sydney:20170618T110000
DTEND;TZID=Australia/Sydney:20170618T120000
GEO:-33.636847;+150.783014
LOCATION:Windsor District Baptist Church @ 739 George St\, South Windsor NS
 W 2756\, Australia
SEQUENCE:0
SUMMARY:Church Quarterly Meeting
URL:http://www.wdbc.org.au/event/church-quarterly-meeting-3/
X-COST-TYPE:free
X-ALT-DESC;FMTTYPE=text/html:<!DOCTYPE HTML PUBLIC '-//W3C//DTD HTML 3.2//E
 N'>\\n<HTML>\\n<HEAD>\\n<TITLE></TITLE>\\n</HEAD>\\n<BODY><p>The church qu
 arterly business meeting will be held after the morning service. All churc
 h members and regular attendees are encouraged to attend.</p>\n</BODY></HT
 ML>
END:VEVENT
BEGIN:VEVENT
UID:ai1ec-1278827@www.wdbc.org.au/www
DTSTAMP:20200301T163426Z
CATEGORIES:
CONTACT:
DESCRIPTION:MUGS (Men Under God’s Service) – men’s fellowship event. Topic:
  “Winter Wander”
DTSTART;TZID=Australia/Sydney:20170701T073000
DTEND;TZID=Australia/Sydney:20170701T093000
SEQUENCE:0
SUMMARY:MUGS
URL:http://www.wdbc.org.au/event/mugs-4/
X-COST-TYPE:free
X-ALT-DESC;FMTTYPE=text/html:<!DOCTYPE HTML PUBLIC '-//W3C//DTD HTML 3.2//E
 N'>\\n<HTML>\\n<HEAD>\\n<TITLE></TITLE>\\n</HEAD>\\n<BODY><p>MUGS (Men Und
 er God’s Service) – men’s fellowship event. Topic: “Winter Wander”</p>\n</
 BODY></HTML>
X-TAGS;LANGUAGE=en-AU:MUGS
END:VEVENT
BEGIN:VEVENT
UID:ai1ec-1278870@www.wdbc.org.au/www
DTSTAMP:20200301T163426Z
CATEGORIES;LANGUAGE=en-AU:Featured
CONTACT:
DESCRIPTION:A special church meeting will be held after the morning service
 . All church members and regular attendees are encouraged to attend.
DTSTART;TZID=Australia/Sydney:20170806T110000
DTEND;TZID=Australia/Sydney:20170806T120000
GEO:-33.636847;+150.783014
LOCATION:Windsor District Baptist Church @ 739 George St\, South Windsor NS
 W 2756\, Australia
SEQUENCE:0
SUMMARY:Special Church Meeting
URL:http://www.wdbc.org.au/event/special-church-meeting/
X-COST-TYPE:free
X-ALT-DESC;FMTTYPE=text/html:<!DOCTYPE HTML PUBLIC '-//W3C//DTD HTML 3.2//E
 N'>\\n<HTML>\\n<HEAD>\\n<TITLE></TITLE>\\n</HEAD>\\n<BODY><p>A special chu
 rch meeting will be held after the morning service. All church members and
  regular attendees are encouraged to attend.</p>\n</BODY></HTML>
END:VEVENT
BEGIN:VEVENT
UID:ai1ec-1278872@www.wdbc.org.au/www
DTSTAMP:20200301T163426Z
CATEGORIES;LANGUAGE=en-AU:Featured
CONTACT:
DESCRIPTION:Sharing by John & Barb Camp – 11:00—11:45am in the Exodus Room
DTSTART;TZID=Australia/Sydney:20170813T110000
DTEND;TZID=Australia/Sydney:20170813T114500
GEO:-33.636847;+150.783014
LOCATION:Windsor District Baptist Church @ 739 George St\, South Windsor NS
 W 2756\, Australia
SEQUENCE:0
SUMMARY:Uganda Mission Trip
URL:http://www.wdbc.org.au/event/uganda-mission-trip/
X-COST-TYPE:free
X-ALT-DESC;FMTTYPE=text/html:<!DOCTYPE HTML PUBLIC '-//W3C//DTD HTML 3.2//E
 N'>\\n<HTML>\\n<HEAD>\\n<TITLE></TITLE>\\n</HEAD>\\n<BODY><p>Sharing by Jo
 hn & Barb Camp – 11:00—11:45am in the Exodus Room</p>\n</BODY></HTML>
END:VEVENT
BEGIN:VEVENT
UID:ai1ec-1278871@www.wdbc.org.au/www
DTSTAMP:20200301T163426Z
CATEGORIES;LANGUAGE=en-AU:Featured
CONTACT:
DESCRIPTION:The church quarterly business meeting will be held after the mo
 rning service. All church members and regular attendees are encouraged to 
 attend.
DTSTART;TZID=Australia/Sydney:20170827T110000
DTEND;TZID=Australia/Sydney:20170827T120000
GEO:-33.636847;+150.783014
LOCATION:Windsor District Baptist Church @ 739 George St\, South Windsor NS
 W 2756\, Australia
SEQUENCE:0
SUMMARY:Church Quarterly Meeting
URL:http://www.wdbc.org.au/event/church-quarterly-meeting-4/
X-COST-TYPE:free
X-ALT-DESC;FMTTYPE=text/html:<!DOCTYPE HTML PUBLIC '-//W3C//DTD HTML 3.2//E
 N'>\\n<HTML>\\n<HEAD>\\n<TITLE></TITLE>\\n</HEAD>\\n<BODY><p>The church qu
 arterly business meeting will be held after the morning service. All churc
 h members and regular attendees are encouraged to attend.</p>\n</BODY></HT
 ML>
END:VEVENT
END:VCALENDAR
